BEGIN:VCALENDAR
VERSION:2.0
PRODID:-//Town of Siren - ECPv6.15.20//NONSGML v1.0//EN
CALSCALE:GREGORIAN
METHOD:PUBLISH
X-WR-CALNAME:Town of Siren
X-ORIGINAL-URL:https://tn.siren.wi.gov
X-WR-CALDESC:Events for Town of Siren
REFRESH-INTERVAL;VALUE=DURATION:PT1H
X-Robots-Tag:noindex
X-PUBLISHED-TTL:PT1H
BEGIN:VTIMEZONE
TZID:America/Chicago
BEGIN:DAYLIGHT
TZOFFSETFROM:-0600
TZOFFSETTO:-0500
TZNAME:CDT
DTSTART:20250309T080000
END:DAYLIGHT
BEGIN:STANDARD
TZOFFSETFROM:-0500
TZOFFSETTO:-0600
TZNAME:CST
DTSTART:20251102T070000
END:STANDARD
BEGIN:DAYLIGHT
TZOFFSETFROM:-0600
TZOFFSETTO:-0500
TZNAME:CDT
DTSTART:20260308T080000
END:DAYLIGHT
BEGIN:STANDARD
TZOFFSETFROM:-0500
TZOFFSETTO:-0600
TZNAME:CST
DTSTART:20261101T070000
END:STANDARD
BEGIN:DAYLIGHT
TZOFFSETFROM:-0600
TZOFFSETTO:-0500
TZNAME:CDT
DTSTART:20270314T080000
END:DAYLIGHT
BEGIN:STANDARD
TZOFFSETFROM:-0500
TZOFFSETTO:-0600
TZNAME:CST
DTSTART:20271107T070000
END:STANDARD
END:VTIMEZONE
BEGIN:VEVENT
DTSTART;TZID=America/Chicago:20260421T180000
DTEND;TZID=America/Chicago:20260421T200000
DTSTAMP:20260421T042906
CREATED:20260323T231004Z
LAST-MODIFIED:20260419T170824Z
UID:4961-1776794400-1776801600@tn.siren.wi.gov
SUMMARY:Town of Siren - Annual Meeting of the Electors
DESCRIPTION:2026 Annual Meeting Agenda \n  \nThe annual meeting of the electors is held on April 21st of every year unless otherwise posted.  This is your opportunity to discuss any topic with the Board.  All qualified electors within the Town of Siren are able to vote on motions made during this meeting.
URL:https://tn.siren.wi.gov/event/town-of-siren-annual-meeting-of-the-electors/
LOCATION:Siren Town Hall\, 7240 South Long Lake Rd\, Siren\, WI\, 54872
ORGANIZER;CN="Chris Tewalt - Clerk":MAILTO:clerk@tn.siren.wi.gov
END:VEVENT
END:VCALENDAR